BEGIN:VCALENDAR
VERSION:2.0
PRODID:-//Gesellschaft Schweiz–Albanien - ECPv6.15.17//NONSGML v1.0//EN
CALSCALE:GREGORIAN
METHOD:PUBLISH
X-WR-CALNAME:Gesellschaft Schweiz–Albanien
X-ORIGINAL-URL:https://www.schweiz-albanien.ch
X-WR-CALDESC:Veranstaltungen für Gesellschaft Schweiz–Albanien
REFRESH-INTERVAL;VALUE=DURATION:PT1H
X-Robots-Tag:noindex
X-PUBLISHED-TTL:PT1H
BEGIN:VTIMEZONE
TZID:Europe/Zurich
BEGIN:DAYLIGHT
TZOFFSETFROM:+0100
TZOFFSETTO:+0200
TZNAME:CEST
DTSTART:20210328T010000
END:DAYLIGHT
BEGIN:STANDARD
TZOFFSETFROM:+0200
TZOFFSETTO:+0100
TZNAME:CET
DTSTART:20211031T010000
END:STANDARD
BEGIN:DAYLIGHT
TZOFFSETFROM:+0100
TZOFFSETTO:+0200
TZNAME:CEST
DTSTART:20220327T010000
END:DAYLIGHT
BEGIN:STANDARD
TZOFFSETFROM:+0200
TZOFFSETTO:+0100
TZNAME:CET
DTSTART:20221030T010000
END:STANDARD
BEGIN:DAYLIGHT
TZOFFSETFROM:+0100
TZOFFSETTO:+0200
TZNAME:CEST
DTSTART:20230326T010000
END:DAYLIGHT
BEGIN:STANDARD
TZOFFSETFROM:+0200
TZOFFSETTO:+0100
TZNAME:CET
DTSTART:20231029T010000
END:STANDARD
END:VTIMEZONE
BEGIN:VEVENT
DTSTART;TZID=Europe/Zurich:20220506T183000
DTEND;TZID=Europe/Zurich:20220506T210000
DTSTAMP:20260425T202558
CREATED:20220415T112755Z
LAST-MODIFIED:20220504T123640Z
UID:5027-1651861800-1651870800@www.schweiz-albanien.ch
SUMMARY:Mitgliederversammlung 2022
DESCRIPTION:Unterwasserarchäologie bei Lin \nmit Vortrag von Prof. Dr. Albert Hafner\, Universität Bern:\n„Die ersten Bauern Europas“\nBericht über die archäologischen Untersuchungen vom letzten Sommer im Ohridsee vor Lin: prähistorische Siedlungen zeugen von früher landwirtschaftlicher Entwicklung in Europa. \nAnschliessend ab ca. 20 Uhr: Mitgliederversammlung \nFür die Planung bitten wir um eine verbindliche Anmeldung bis 5. Mai 2022. \n Anmeldung \n Einladung/Flyer (PDF)
URL:https://www.schweiz-albanien.ch/event/mitgliederversammlung-2022/
LOCATION:Lavaterhaus (Lavatersaal)\, St.-Peter-Hofstatt 6\, Zürich\, 8001\, Schweiz
CATEGORIES:Mitgliederversammlung GSA,Öffentliche Veranstaltung GSA
ATTACH;FMTTYPE=image/jpeg:https://www.schweiz-albanien.ch/wp-content/uploads/2022/04/unterwasser-archaeologie-lin-2-albanien-taucher.jpg
ORGANIZER;CN="Gesellschaft Schweiz-Albanien":MAILTO:info@schweiz-albanien.ch
END:VEVENT
END:VCALENDAR