BEGIN:VCALENDAR
VERSION:2.0
PRODID:-//Gesellschaft Schweiz–Albanien - ECPv6.15.17//NONSGML v1.0//EN
CALSCALE:GREGORIAN
METHOD:PUBLISH
X-ORIGINAL-URL:https://www.schweiz-albanien.ch
X-WR-CALDESC:Veranstaltungen für Gesellschaft Schweiz–Albanien
REFRESH-INTERVAL;VALUE=DURATION:PT1H
X-Robots-Tag:noindex
X-PUBLISHED-TTL:PT1H
BEGIN:VTIMEZONE
TZID:Europe/Zurich
BEGIN:DAYLIGHT
TZOFFSETFROM:+0100
TZOFFSETTO:+0200
TZNAME:CEST
DTSTART:20240331T010000
END:DAYLIGHT
BEGIN:STANDARD
TZOFFSETFROM:+0200
TZOFFSETTO:+0100
TZNAME:CET
DTSTART:20241027T010000
END:STANDARD
BEGIN:DAYLIGHT
TZOFFSETFROM:+0100
TZOFFSETTO:+0200
TZNAME:CEST
DTSTART:20250330T010000
END:DAYLIGHT
BEGIN:STANDARD
TZOFFSETFROM:+0200
TZOFFSETTO:+0100
TZNAME:CET
DTSTART:20251026T010000
END:STANDARD
BEGIN:DAYLIGHT
TZOFFSETFROM:+0100
TZOFFSETTO:+0200
TZNAME:CEST
DTSTART:20260329T010000
END:DAYLIGHT
BEGIN:STANDARD
TZOFFSETFROM:+0200
TZOFFSETTO:+0100
TZNAME:CET
DTSTART:20261025T010000
END:STANDARD
END:VTIMEZONE
BEGIN:VEVENT
DTSTART;VALUE=DATE:20250821
DTEND;VALUE=DATE:20250823
DTSTAMP:20260424T191424
CREATED:20250224T174214Z
LAST-MODIFIED:20250809T231727Z
UID:7457-1755734400-1755907199@www.schweiz-albanien.ch
SUMMARY:Albanischer Nationalzirkus am Fàrbi Festival
DESCRIPTION:Der albanische Nationalzirkus Cirku Kombëtar tritt zum ersten Mal in der Schweiz auf. Die Artisten sind zu Gast am Färbi Festival\, dem Zirkus-\, Theater und Food-Festival in Wetzikon. \nDetails zum Programm folgen. Geplant sind Aufritte an zwei „Albanischen Abenden“ des Festivals\, an denen aus albanisches Essen geben soll. Zirkus ist ein Format\, das weltweit verstanden wird und so zum interkulturellen Austausch beitragen kann. \n  \n 
URL:https://www.schweiz-albanien.ch/event/albanischer-nationalzirkus-am-farbi-festival/
LOCATION:Stadtgarten Färberwiese\, Strandbadstrasse 13\, Wetzikon\, ZH\, 8620\, Switzerland
CATEGORIES:Weitere Albanien-Veranstaltungen
ORGANIZER;CN="Wetzikontakt":MAILTO:info@wetzikontakt.ch
END:VEVENT
END:VCALENDAR